BEGIN:VCALENDAR
VERSION:2.0
PRODID:-//wp-events-plugin.com//7.2.3.1//EN
TZID:America/Chicago
X-WR-TIMEZONE:America/Chicago
BEGIN:VEVENT
UID:1921@bingowednesdaynightkc.org
DTSTART:20150211T163000Z
DTEND:20150211T220000Z
DTSTAMP:20150207T015241Z
URL:https://bingowednesdaynightkc.org/events/1199-progressive-bingo-giveaw
 ay-feb-11th-2015/
SUMMARY:$1199 Progressive Bingo Giveaway Feb 11th 2015
DESCRIPTION:$1199 Progressive Bingo Giveaway Feb 11th 2015\n\nSince Bingo W
 ednesday Night at Finnigan's Hall was closed Feb 4th\, 2015 due to the wea
 ther.  We are offering the $1199 Progressive Bingo Giveaway* this Wednesd
 ay Evening\, Feb 11th\, 2015.\n\nDoors open at 4:30pm! For more informatio
 n please call Tom at [icon icon=icon-phone size=14px color=#000 ] (816) 84
 1-2757.\n\n*Bingo Game Prize Giveaway Subject to Change without notice
CATEGORIES:week 2 bingo specials
LOCATION:Bingo Wednesday Night KC in North Kansas City\, 6565 North Oak Tra
 fficway\, Gladstone\, Missouri\, 64118\, United States
GEO:39.213024;-94.575819
X-APPLE-STRUCTURED-LOCATION;VALUE=URI;X-ADDRESS=6565 North Oak Trafficway\,
  Gladstone\, Missouri\, 64118\, United States;X-APPLE-RADIUS=100;X-TITLE=B
 ingo Wednesday Night KC in North Kansas City:geo:39.213024,-94.575819
END:VEVENT
END:VCALENDAR